BEGIN:VCALENDAR
VERSION:2.0
PRODID:-//wp-events-plugin.com//7.2.3.1//EN
BEGIN:VEVENT
UID:5559@halleheide.nl
DTSTART;TZID=Europe/Amsterdam:20261216T193000
DTEND;TZID=Europe/Amsterdam:20261216T210000
DTSTAMP:20260415T190624Z
URL:https://halleheide.nl/events/amnesty-international-kantoor-boven-6
SUMMARY:Amnesty International (kantoor boven)
DESCRIPTION:
CATEGORIES:Openbaar
END:VEVENT
BEGIN:VTIMEZONE
TZID:Europe/Amsterdam
X-LIC-LOCATION:Europe/Amsterdam
BEGIN:STANDARD
DTSTART:20261025T020000
TZOFFSETFROM:+0200
TZOFFSETTO:+0100
TZNAME:CET
END:STANDARD
END:VTIMEZONE
END:VCALENDAR