BEGIN:VCALENDAR
VERSION:2.0
PRODID:-//wp-events-plugin.com//7.2.3.1//EN
BEGIN:VEVENT
UID:5510@halleheide.nl
DTSTART;TZID=Europe/Amsterdam:20260731T180000
DTEND;TZID=Europe/Amsterdam:20260731T203000
DTSTAMP:20260119T211733Z
URL:https://halleheide.nl/events/eten-met-en-door-de-buurt-63
SUMMARY:Eten met en door de buurt
DESCRIPTION:Inloop vanaf 18:00h
CATEGORIES:Openbaar
END:VEVENT
BEGIN:VTIMEZONE
TZID:Europe/Amsterdam
X-LIC-LOCATION:Europe/Amsterdam
BEGIN:DAYLIGHT
DTSTART:20260329T030000
TZOFFSETFROM:+0100
TZOFFSETTO:+0200
TZNAME:CEST
END:DAYLIGHT
END:VTIMEZONE
END:VCALENDAR