BEGIN:VCALENDAR
VERSION:2.0
PRODID:-//wp-events-plugin.com//7.2.3.1//EN
BEGIN:VEVENT
UID:5514@halleheide.nl
DTSTART;TZID=Europe/Amsterdam:20270129T180000
DTEND;TZID=Europe/Amsterdam:20270129T203000
DTSTAMP:20260119T212211Z
URL:https://halleheide.nl/events/eten-met-en-door-de-buurt-67
SUMMARY:Eten met en door de buurt
DESCRIPTION:Inloop vanaf 18:00h
CATEGORIES:Openbaar
END:VEVENT
BEGIN:VTIMEZONE
TZID:Europe/Amsterdam
X-LIC-LOCATION:Europe/Amsterdam
BEGIN:STANDARD
DTSTART:20261025T020000
TZOFFSETFROM:+0200
TZOFFSETTO:+0100
TZNAME:CET
END:STANDARD
END:VTIMEZONE
END:VCALENDAR