BEGIN:VCALENDAR
VERSION:2.0
PRODID:-//wp-events-plugin.com//7.2.3.1//EN
BEGIN:VEVENT
UID:1732@halleheide.nl
DTSTART:20200623T090000Z
DTEND:20200623T140000Z
DTSTAMP:20200520T150946Z
URL:https://halleheide.nl/events/huiskamer-en-tussenruimte-verhuurd-yunio-
 3
SUMMARY:Huiskamer en tussenruimte verhuurd (Yunio)
DESCRIPTION:
CATEGORIES:Besloten
LOCATION:Heidehuus\, Halle-Heideweg 22\, Halle heide\, Gelderland\, 7025 CL
 \, Nederland
GEO:52.0087003;6.441254299999969
X-APPLE-STRUCTURED-LOCATION;VALUE=URI;X-ADDRESS=Halle-Heideweg 22\, Halle h
 eide\, Gelderland\, 7025 CL\, Nederland;X-APPLE-RADIUS=100;X-TITLE=Heidehu
 us:geo:52.0087003,6.441254299999969
END:VEVENT
END:VCALENDAR