BEGIN:VCALENDAR
VERSION:2.0
PRODID:-//wp-events-plugin.com//7.2.3.1//EN
BEGIN:VEVENT
UID:2779@halleheide.nl
DTSTART:20230322T100000Z
DTEND:20230322T150000Z
DTSTAMP:20220506T125902Z
URL:https://halleheide.nl/events/kantklossen-10-00-15-00-uur-6
SUMMARY:Kantklossen 10.00-15.00 uur
DESCRIPTION:
CATEGORIES:Besloten
LOCATION:Heidehuus\, Halle-Heideweg 22\, Halle heide\, Gelderland\, 7025 CL
 \, Nederland
GEO:52.0087003;6.441254299999969
X-APPLE-STRUCTURED-LOCATION;VALUE=URI;X-ADDRESS=Halle-Heideweg 22\, Halle h
 eide\, Gelderland\, 7025 CL\, Nederland;X-APPLE-RADIUS=100;X-TITLE=Heidehu
 us:geo:52.0087003,6.441254299999969
END:VEVENT
END:VCALENDAR