BEGIN:VCALENDAR
VERSION:2.0
PRODID:-//wp-events-plugin.com//7.2.3.1//EN
BEGIN:VEVENT
UID:5225@halleheide.nl
DTSTART;TZID=Europe/Amsterdam:20251022T093000
DTEND;TZID=Europe/Amsterdam:20251022T143000
DTSTAMP:20250606T160129Z
URL:https://halleheide.nl/events/kantklossen-in-de-tussenruimte-14
SUMMARY:Kantklossen in de tussenruimte
DESCRIPTION:
CATEGORIES:Openbaar
LOCATION:Heidehuus\, Halle-Heideweg 22\, Halle heide\, Gelderland\, 7025 CL
 \, Nederland
GEO:52.0087003;6.441254299999969
X-APPLE-STRUCTURED-LOCATION;VALUE=URI;X-ADDRESS=Halle-Heideweg 22\, Halle h
 eide\, Gelderland\, 7025 CL\, Nederland;X-APPLE-RADIUS=100;X-TITLE=Heidehu
 us:geo:52.0087003,6.441254299999969
END:VEVENT
BEGIN:VTIMEZONE
TZID:Europe/Amsterdam
X-LIC-LOCATION:Europe/Amsterdam
BEGIN:DAYLIGHT
DTSTART:20250330T030000
TZOFFSETFROM:+0100
TZOFFSETTO:+0200
TZNAME:CEST
END:DAYLIGHT
END:VTIMEZONE
END:VCALENDAR