BEGIN:VCALENDAR
VERSION:2.0
PRODID:-//wp-events-plugin.com//7.2.3.1//EN
BEGIN:VEVENT
UID:5226@halleheide.nl
DTSTART;TZID=Europe/Amsterdam:20251126T093000
DTEND;TZID=Europe/Amsterdam:20251126T143000
DTSTAMP:20250313T170739Z
URL:https://halleheide.nl/events/kantklossen-in-de-tussenruimte-15
SUMMARY:Kantklossen in de tussenruimte
DESCRIPTION:
CATEGORIES:Openbaar
LOCATION:Heidehuus\, Halle-Heideweg 22\, Halle heide\, Gelderland\, 7025 CL
 \, Nederland
GEO:52.0087003;6.441254299999969
X-APPLE-STRUCTURED-LOCATION;VALUE=URI;X-ADDRESS=Halle-Heideweg 22\, Halle h
 eide\, Gelderland\, 7025 CL\, Nederland;X-APPLE-RADIUS=100;X-TITLE=Heidehu
 us:geo:52.0087003,6.441254299999969
END:VEVENT
BEGIN:VTIMEZONE
TZID:Europe/Amsterdam
X-LIC-LOCATION:Europe/Amsterdam
BEGIN:STANDARD
DTSTART:20251026T020000
TZOFFSETFROM:+0200
TZOFFSETTO:+0100
TZNAME:CET
END:STANDARD
END:VTIMEZONE
END:VCALENDAR