BEGIN:VCALENDAR
VERSION:2.0
PRODID:-//wp-events-plugin.com//7.2.3.1//EN
BEGIN:VEVENT
UID:1184@halleheide.nl
DTSTART:20190704T100000Z
DTEND:20190704T110000Z
DTSTAMP:20190626T133031Z
URL:https://halleheide.nl/events/koffie-drinken-voor-25-personen-fietsclub
 -zelhem
SUMMARY:Koffie drinken voor 25 personen Fietsclub Zelhem
DESCRIPTION:
CATEGORIES:Besloten
LOCATION:Heidehuus\, Halle-Heideweg 22\, Halle heide\, Gelderland\, 7025 CL
 \, Nederland
GEO:52.0087003;6.441254299999969
X-APPLE-STRUCTURED-LOCATION;VALUE=URI;X-ADDRESS=Halle-Heideweg 22\, Halle h
 eide\, Gelderland\, 7025 CL\, Nederland;X-APPLE-RADIUS=100;X-TITLE=Heidehu
 us:geo:52.0087003,6.441254299999969
END:VEVENT
END:VCALENDAR