BEGIN:VCALENDAR
VERSION:2.0
PRODID:-//wp-events-plugin.com//7.2.3.1//EN
BEGIN:VEVENT
UID:5265@halleheide.nl
DTSTART;TZID=Europe/Amsterdam:20260425T160000
DTEND;TZID=Europe/Amsterdam:20260425T234500
DTSTAMP:20251223T185916Z
URL:https://halleheide.nl/events/muzieklokaal-20
SUMMARY:Muzieklokaal
DESCRIPTION:
CATEGORIES:Openbaar
END:VEVENT
BEGIN:VTIMEZONE
TZID:Europe/Amsterdam
X-LIC-LOCATION:Europe/Amsterdam
BEGIN:DAYLIGHT
DTSTART:20260329T030000
TZOFFSETFROM:+0100
TZOFFSETTO:+0200
TZNAME:CEST
END:DAYLIGHT
END:VTIMEZONE
END:VCALENDAR