BEGIN:VCALENDAR
VERSION:2.0
PRODID:-//wp-events-plugin.com//7.2.3.1//EN
BEGIN:VEVENT
UID:3727@halleheide.nl
DTSTART:20230410T130000Z
DTEND:20230410T180000Z
DTSTAMP:20230208T095433Z
URL:https://halleheide.nl/events/sterrit-feestcommissie-vanaf-het-heidehuu
 s
SUMMARY:Sterrit feestcommissie\, vanaf het Heidehuus
DESCRIPTION:
CATEGORIES:Openbaar
LOCATION:Heidehuus\, Halle-Heideweg 22\, Halle heide\, Gelderland\, 7025 CL
 \, Nederland
GEO:52.0087003;6.441254299999969
X-APPLE-STRUCTURED-LOCATION;VALUE=URI;X-ADDRESS=Halle-Heideweg 22\, Halle h
 eide\, Gelderland\, 7025 CL\, Nederland;X-APPLE-RADIUS=100;X-TITLE=Heidehu
 us:geo:52.0087003,6.441254299999969
END:VEVENT
END:VCALENDAR