BEGIN:VCALENDAR
VERSION:2.0
PRODID:-//wp-events-plugin.com//7.2.3.1//EN
BEGIN:VEVENT
UID:5268@halleheide.nl
DTSTART;TZID=Europe/Amsterdam:20250717T200000
DTEND;TZID=Europe/Amsterdam:20250717T220000
DTSTAMP:20250627T092710Z
URL:https://halleheide.nl/events/verg-halle-nijman
SUMMARY:Verg. Halle-Nijman
DESCRIPTION:
CATEGORIES:Openbaar
END:VEVENT
BEGIN:VTIMEZONE
TZID:Europe/Amsterdam
X-LIC-LOCATION:Europe/Amsterdam
BEGIN:DAYLIGHT
DTSTART:20250330T030000
TZOFFSETFROM:+0100
TZOFFSETTO:+0200
TZNAME:CEST
END:DAYLIGHT
END:VTIMEZONE
END:VCALENDAR