BEGIN:VCALENDAR
VERSION:2.0
PRODID:-//wp-events-plugin.com//7.2.3.1//EN
BEGIN:VEVENT
UID:5350@halleheide.nl
DTSTART;TZID=Europe/Amsterdam:20251030T200000
DTEND;TZID=Europe/Amsterdam:20251030T234500
DTSTAMP:20251002T210216Z
URL:https://halleheide.nl/events/vergadering-de-nijman-in-de-tussenruimte
SUMMARY:Vergadering de Nijman (in de tussenruimte)
DESCRIPTION:
CATEGORIES:Openbaar
END:VEVENT
BEGIN:VTIMEZONE
TZID:Europe/Amsterdam
X-LIC-LOCATION:Europe/Amsterdam
BEGIN:STANDARD
DTSTART:20251026T020000
TZOFFSETFROM:+0200
TZOFFSETTO:+0100
TZNAME:CET
END:STANDARD
END:VTIMEZONE
END:VCALENDAR