BEGIN:VCALENDAR
VERSION:2.0
PRODID:-//wp-events-plugin.com//7.2.3.1//EN
BEGIN:VEVENT
UID:5516@halleheide.nl
DTSTART;TZID=Europe/Amsterdam:20260305T000000
DTEND;TZID=Europe/Amsterdam:20260305T000000
DTSTAMP:20260122T203155Z
URL:https://halleheide.nl/events/vergadering-hacc
SUMMARY:Vergadering HACC
DESCRIPTION:
CATEGORIES:Openbaar
END:VEVENT
BEGIN:VTIMEZONE
TZID:Europe/Amsterdam
X-LIC-LOCATION:Europe/Amsterdam
BEGIN:STANDARD
DTSTART:20251026T020000
TZOFFSETFROM:+0200
TZOFFSETTO:+0100
TZNAME:CET
END:STANDARD
END:VTIMEZONE
END:VCALENDAR